BEGIN:VCALENDAR
VERSION:2.0
PRODID:-//Plone.org//NONSGML plone.app.event//EN
X-WR-TIMEZONE:Europe/Madrid
BEGIN:VEVENT
SUMMARY:Cine Social Universitario
DTSTART;VALUE=DATE:20220715
DTEND;VALUE=DATE:20220716
DTSTAMP:20260424T221609Z
UID:e4809d66a16c4d9fb0bbad8b8b9b2b65@canviaelmon.upc.edu
CREATED:20220419T080816Z
DESCRIPTION:Desenvolupa la teva creativitat i autenticitat a través del c
 inema. Premis fina a 2.000 €. Inscripcions fins el 15 de juliol.
LAST-MODIFIED:20250717T095337Z
URL:https://canviaelmon.upc.edu/ca/esdeveniments/proposem/uemc
END:VEVENT
END:VCALENDAR
