BEGIN:VCALENDAR
VERSION:2.0
PRODID:-//Plone.org//NONSGML plone.app.event//EN
X-WR-TIMEZONE:Europe/Madrid
BEGIN:VEVENT
SUMMARY:Programa de beques Oportunidad al Talento
DTSTART;VALUE=DATE:20251030
DTEND;VALUE=DATE:20251031
DTSTAMP:20260425T032634Z
UID:57ce021a29404ac19ac2c3be68bc0b9f@canviaelmon.upc.edu
CATEGORIES:Inclusió
CONTACT:https://becas.fundaciononce.es/Paginas/BecasOportunidadTalento.asp
 x#
CREATED:20250715T074021Z
DESCRIPTION:Diferents modalitats i dotacions econòmiques. Termini fins el
  15/10/2025.
LAST-MODIFIED:20251010T110420Z
URL:https://canviaelmon.upc.edu/ca/esdeveniments/proposem/talento
END:VEVENT
END:VCALENDAR
