BEGIN:VCALENDAR
VERSION:2.0
PRODID:-//Plone.org//NONSGML plone.app.event//EN
X-WR-TIMEZONE:Europe/Madrid
BEGIN:VEVENT
SUMMARY:STEM Women Day
DTSTART;VALUE=DATE:20200304
DTEND;VALUE=DATE:20200305
DTSTAMP:20260425T022945Z
UID:556678f8ba8b4d5fbd00d4f1570e9674@canviaelmon.upc.edu
CREATED:20200226T162647Z
DESCRIPTION:Potencia el teu talent en les carreres STEM. Vina a la jornada
  amb motiu del Dia de la Dona. Apunta't i reserva la teva plaça!
LAST-MODIFIED:20251007T081603Z
URL:https://canviaelmon.upc.edu/ca/esdeveniments/proposem/stem-women-day
END:VEVENT
END:VCALENDAR
