BEGIN:VCALENDAR
VERSION:2.0
PRODID:-//Plone.org//NONSGML plone.app.event//EN
X-WR-TIMEZONE:Europe/Madrid
BEGIN:VEVENT
SUMMARY:#SenseBarreres
DTSTART;TZID=Europe/Madrid:20241127T180000
DTEND;TZID=Europe/Madrid:20241127T200000
DTSTAMP:20260420T053046Z
UID:8908d0f6c23b43bf9f7df0946e5618a6@canviaelmon.upc.edu
CATEGORIES:Inclusió
CONTACT:https://docs.google.com/forms/d/e/1FAIpQLSfdF5rNmnSgQAY2ZvuNoI9SiY
 ibyHD_s4s1sQ_1e_WgbQyZBg/viewform
CREATED:20241125T101927Z
DESCRIPTION:II EDICIÓ SETMANES DE L'ACCESSIBILITAT\n27 de Novembre - Tall
 er construint Ciutats Amigables
LAST-MODIFIED:20251007T081605Z
LOCATION:ETSAB Sala de Graus
URL:https://canviaelmon.upc.edu/ca/esdeveniments/proposem/sensebarreres
END:VEVENT
BEGIN:VTIMEZONE
TZID:Europe/Madrid
X-LIC-LOCATION:Europe/Madrid
BEGIN:STANDARD
DTSTART:20241027T020000
TZNAME:CET
TZOFFSETFROM:+0200
TZOFFSETTO:+0100
END:STANDARD
END:VTIMEZONE
END:VCALENDAR
