BEGIN:VCALENDAR
VERSION:2.0
PRODID:-//Plone.org//NONSGML plone.app.event//EN
X-WR-TIMEZONE:Europe/Madrid
BEGIN:VEVENT
SUMMARY:Programa Rossinyol
DTSTART;VALUE=DATE:20220911
DTEND;VALUE=DATE:20221012
DTSTAMP:20260424T224327Z
UID:5f7fd6ba801443c896247b2ecec2aa75@canviaelmon.upc.edu
CATEGORIES:Inclusió
CONTACT:Fundació Servei Solidari\, rossinyol@serveisolidari.org\, http://
 serveisolidari.org/ca/quefem/MENTORIA/ROSSINYOL/
CREATED:20210625T083450Z
DESCRIPTION:Vols ser persona mentora d'adolescents en situació de vulnera
 bilitat? Sigues un referent universitari per a ells.
LAST-MODIFIED:20251007T081602Z
URL:https://canviaelmon.upc.edu/ca/esdeveniments/proposem/rossinyol
END:VEVENT
END:VCALENDAR
