BEGIN:VCALENDAR
VERSION:2.0
PRODID:-//Plone.org//NONSGML plone.app.event//EN
X-WR-TIMEZONE:Europe/Madrid
BEGIN:VEVENT
SUMMARY:Premi CONSTRUCÍA
DTSTART;VALUE=DATE:20231015
DTEND;VALUE=DATE:20231016
DTSTAMP:20260425T033433Z
UID:773985adf15340ed8c92c592b9b8298a@canviaelmon.upc.edu
CATEGORIES:Sostenibilitat
CONTACT:Cátedra UPC - Grupo Construcía. Hub d'Economía Circular Aplicad
 a a la Construcció\, https://www.catedraconstruciaupc.com/premio-construc
 ia/
CREATED:20230612T131041Z
DESCRIPTION:Guanya fins a 1.000 € presentant el teu TFE en temes relacio
 nats amb l’economia circular. Lliurament de treballs fins al 15/10/2023.
LAST-MODIFIED:20250717T095339Z
URL:https://canviaelmon.upc.edu/ca/esdeveniments/proposem/premi-construcia
END:VEVENT
END:VCALENDAR
