BEGIN:VCALENDAR
VERSION:2.0
PRODID:-//Plone.org//NONSGML plone.app.event//EN
X-WR-TIMEZONE:Europe/Madrid
BEGIN:VEVENT
SUMMARY:3HM Awards
DTSTART;VALUE=DATE:20191219
DTEND;VALUE=DATE:20200304
DTSTAMP:20260420T205806Z
UID:cb6276875bc24938b957b136f3955c51@canviaelmon.upc.edu
CONTACT:Fundació Politècnica de Catalunya
CREATED:20200904T110040Z
DESCRIPTION:Ets amant dels videojocs? Impulsa el teu talent i guanya fins 
 a 3.000 €
LAST-MODIFIED:20250717T095336Z
URL:https://canviaelmon.upc.edu/ca/esdeveniments/proposem/premi-3hm
END:VEVENT
END:VCALENDAR
