BEGIN:VCALENDAR
VERSION:2.0
PRODID:-//Plone.org//NONSGML plone.app.event//EN
X-WR-TIMEZONE:Europe/Madrid
BEGIN:VEVENT
SUMMARY:Programa de beques Prácticas Fundación ONCE-CRUE
DTSTART;VALUE=DATE:20251210
DTEND;VALUE=DATE:20251211
DTSTAMP:20260425T014127Z
UID:de8df00f8dae4bd882adeee44192511c@canviaelmon.upc.edu
CATEGORIES:Inclusió
CONTACT:Fundación ONCE-CRUE\, https://becas.fundaciononce.es/Paginas/Beca
 sPracticasOnceCrue.aspx
CREATED:20250715T080419Z
DESCRIPTION:Termini fins el 10 de desembre de 2025. Dotació: 1800€. 600
 €/mes.
LAST-MODIFIED:20250717T095157Z
URL:https://canviaelmon.upc.edu/ca/esdeveniments/proposem/practicas
END:VEVENT
END:VCALENDAR
