BEGIN:VCALENDAR
VERSION:2.0
PRODID:-//Plone.org//NONSGML plone.app.event//EN
X-WR-TIMEZONE:Europe/Madrid
BEGIN:VEVENT
SUMMARY:Cicle de reptes socials
DTSTART;VALUE=DATE:20210420
DTEND;VALUE=DATE:20210602
DTSTAMP:20260420T140516Z
UID:a69193b382194130a9a7df039cd184f1@canviaelmon.upc.edu
CONTACT:Coorganitzat pel Palau Macaya de la Fundació “La Caixa” i la 
 UPC\, amb la col·laboració de Digital Future Society.\, https://palaumac
 aya.org/ca/p/tecnologias-emergentes-y-desigualdades_c17454766
CREATED:20210420T125755Z
DESCRIPTION:Consulta la programació de conferències entorn l'educació i
  alfabetització digital\, la inclusió digital i els reptes emergents i d
 esigualtats.
LAST-MODIFIED:20251007T081559Z
LOCATION:Palau Macaya i en línia
URL:https://canviaelmon.upc.edu/ca/esdeveniments/proposem/palau-macaya
END:VEVENT
END:VCALENDAR
