BEGIN:VCALENDAR
VERSION:2.0
PRODID:-//Plone.org//NONSGML plone.app.event//EN
X-WR-TIMEZONE:Europe/Madrid
BEGIN:VEVENT
SUMMARY:Fundació ONCE Investiga
DTSTART;VALUE=DATE:20251115
DTEND;VALUE=DATE:20251116
DTSTAMP:20260425T022945Z
UID:536fc520c2b94635b14dfb3c4f7a8c23@canviaelmon.upc.edu
CATEGORIES:Inclusió
CONTACT:Fundació ONCE\, https://becas.fundaciononce.es/Paginas/BecasProgr
 amaInvestiga.aspx
CREATED:20250912T082245Z
DESCRIPTION:Impulsa la carrera acadèmica i de recerca. Presentació de pr
 ojectes fins el 15/11/2025.
LAST-MODIFIED:20250925T101731Z
URL:https://canviaelmon.upc.edu/ca/esdeveniments/proposem/once-investiga
END:VEVENT
END:VCALENDAR
