BEGIN:VCALENDAR
VERSION:2.0
PRODID:-//Plone.org//NONSGML plone.app.event//EN
X-WR-TIMEZONE:Europe/Madrid
BEGIN:VEVENT
SUMMARY:Mobile Social Congress
DTSTART;VALUE=DATE:20240227
DTEND;VALUE=DATE:20240303
DTSTAMP:20260424T143910Z
UID:4efe607c8c0641d7a9d009b9ffdd81b6@canviaelmon.upc.edu
CATEGORIES:Cooperació,Sostenibilitat
CONTACT:SETEM Catalunya\, https://mobilesocialcongress.cat/ca/
CREATED:20230221T100238Z
DESCRIPTION:Quin cost real té la tecnologia que consumim? Vine al #MSC24 
 a exporar-ho! Inscripcions gratuïtes.
LAST-MODIFIED:20251007T081601Z
LOCATION:Diverses ubicacions
URL:https://canviaelmon.upc.edu/ca/esdeveniments/proposem/mobile-social-co
 ngress
END:VEVENT
END:VCALENDAR
