BEGIN:VCALENDAR
VERSION:2.0
PRODID:-//Plone.org//NONSGML plone.app.event//EN
X-WR-TIMEZONE:Europe/Madrid
BEGIN:VEVENT
SUMMARY:#JOVESINTECH
DTSTART;VALUE=DATE:20210113
DTEND;VALUE=DATE:20210701
DTSTAMP:20260420T114251Z
UID:d3527ac458d24606a2a160eb8cb3eb0b@canviaelmon.upc.edu
CONTACT:Fundación Esplai\, https://fundacionesplai.org/blog/socioeducativ
 a/jovesintech_programacio_tic/
CREATED:20210421T065210Z
DESCRIPTION:Suma't a les persones voluntàries per formar famílies en pro
 gramació TIC a 3 centres d'educació secundària.
LAST-MODIFIED:20251007T081559Z
URL:https://canviaelmon.upc.edu/ca/esdeveniments/proposem/jovesintech
END:VEVENT
END:VCALENDAR
