BEGIN:VCALENDAR
VERSION:2.0
PRODID:-//Plone.org//NONSGML plone.app.event//EN
X-WR-TIMEZONE:Europe/Madrid
BEGIN:VEVENT
SUMMARY:HackB al Campus Docent Sant Joan de Déu
DTSTART;VALUE=DATE:20231128
DTEND;VALUE=DATE:20231129
DTSTAMP:20260424T235104Z
UID:723ca581faa44d4baa27455c15f9a49c@canviaelmon.upc.edu
CATEGORIES:Igualtat,Inclusió,Alumni,Sostenibilitat
CONTACT:Campus Docent de Sant Joan de Déu\, https://es.surveymonkey.com/r
 /ZNP76HS
CREATED:20231023T094001Z
DESCRIPTION:Estudies 3r o 4t curs de grau? Participa en la 1a HackB\, obt
 é 0\,5 ECTS i guanya fins a 1.600 €.
LAST-MODIFIED:20250717T095339Z
URL:https://canviaelmon.upc.edu/ca/esdeveniments/proposem/hack-b
END:VEVENT
END:VCALENDAR
