BEGIN:VCALENDAR
VERSION:2.0
PRODID:-//Plone.org//NONSGML plone.app.event//EN
X-WR-TIMEZONE:Europe/Madrid
BEGIN:VEVENT
SUMMARY:Gran Recapte d’Aliments
DTSTART;VALUE=DATE:20221125
DTEND;VALUE=DATE:20221207
DTSTAMP:20260424T235954Z
UID:d5b3951e13334e899bdc46fea5150186@canviaelmon.upc.edu
CONTACT:Fundació Banc dels Aliments
CREATED:20221107T130811Z
DESCRIPTION:Ajudar omple. Suma't al voluntariat! Presenta't als punts de r
 ecollida en els establiments per als dies 25 i 26 de novembre.
LAST-MODIFIED:20251007T081600Z
URL:https://canviaelmon.upc.edu/ca/esdeveniments/proposem/gran-recapte
END:VEVENT
END:VCALENDAR
