BEGIN:VCALENDAR
VERSION:2.0
PRODID:-//Plone.org//NONSGML plone.app.event//EN
X-WR-TIMEZONE:Europe/Madrid
BEGIN:VEVENT
SUMMARY:Festival Residu Zero
DTSTART;VALUE=DATE:20231026
DTEND;VALUE=DATE:20231028
DTSTAMP:20260425T015434Z
UID:a5d4cafa14d44ed68d88ce03eaeaccb6@canviaelmon.upc.edu
CATEGORIES:Cooperació,Sostenibilitat
CONTACT:Rezero\, https://festivalresiduzero.org/
CREATED:20231002T080106Z
DESCRIPTION:26 i 27/10 reunirà persones referents en l'impuls de la trans
 formació ecosocial de l'àmbit científic\, social\, econòmic\, polític
  i institucional.
LAST-MODIFIED:20251007T081600Z
LOCATION:Palo Alto Carrer dels Pellaires\, 30 – 38. Barcelona
URL:https://canviaelmon.upc.edu/ca/esdeveniments/proposem/festival-residu-
 zero
END:VEVENT
END:VCALENDAR
