BEGIN:VCALENDAR
VERSION:2.0
PRODID:-//Plone.org//NONSGML plone.app.event//EN
X-WR-TIMEZONE:Europe/Madrid
BEGIN:VEVENT
SUMMARY:Fes voluntariat d'estiu
DTSTART;TZID=Europe/Madrid:20210630T000000
DTSTAMP:20260424T231957Z
UID:cf07eaf0776848c2a80851136c73b33c@canviaelmon.upc.edu
CONTACT:Casal dels Infants\, voluntariat@casaldelsinfants.org\, https://ww
 w.casaldelsinfants.org/voluntariat
CREATED:20210419T123956Z
DESCRIPTION:Col·labora en els casals d'estiu i colònies al barri de la M
 ina (Sant Adrià del Besòs) i al barri del Besòs (Barcelona).
LAST-MODIFIED:20251007T081600Z
URL:https://canviaelmon.upc.edu/ca/esdeveniments/proposem/fes-voluntariat-
 destiu
END:VEVENT
BEGIN:VTIMEZONE
TZID:Europe/Madrid
X-LIC-LOCATION:Europe/Madrid
BEGIN:DAYLIGHT
DTSTART:20210328T030000
TZNAME:CEST
TZOFFSETFROM:+0100
TZOFFSETTO:+0200
END:DAYLIGHT
END:VTIMEZONE
END:VCALENDAR
