BEGIN:VCALENDAR
VERSION:2.0
PRODID:-//Plone.org//NONSGML plone.app.event//EN
X-WR-TIMEZONE:Europe/Madrid
BEGIN:VEVENT
SUMMARY:Beca Equitat
DTSTART;VALUE=DATE:20251031
DTEND;VALUE=DATE:20251101
DTSTAMP:20260420T114257Z
UID:3922a35dbe3741cf9d02e95afd19a635@canviaelmon.upc.edu
CONTACT:AGAUR. Agència de Gestió d'Ajuts Universitaris i de Recerca\, ht
 tps://www.upc.edu/sga/ca/Beques/beques-per-a-estudis/BequesEstudi/becaequi
 tat
CREATED:20251008T075009Z
DESCRIPTION:Termini fins el 31/10/2025. Dotació: minoració dels preus de
 ls crèdits universitaris.
LAST-MODIFIED:20251009T102932Z
URL:https://canviaelmon.upc.edu/ca/esdeveniments/proposem/equitat
END:VEVENT
END:VCALENDAR
