BEGIN:VCALENDAR
VERSION:2.0
PRODID:-//Plone.org//NONSGML plone.app.event//EN
X-WR-TIMEZONE:Europe/Madrid
BEGIN:VEVENT
SUMMARY:DONA ENGINYERA
DTSTART;TZID=Europe/Madrid:20240620T100000
DTSTAMP:20260424T210605Z
UID:95ef60b4dea14c7887ac6eed0a66d32b@canviaelmon.upc.edu
CATEGORIES:Alumni,Inclusió,Igualtat
CONTACT:Mesa de les Enginyeries Tècniques i Graus en Enginyeria de Catalu
 nya\, https://www.donaenginyera.cat/
CREATED:20240528T141126Z
DESCRIPTION:Reflexions\, converses i propostes per atreure i potenciar el 
 talent femení en l’àmbit de l’enginyeria.
LAST-MODIFIED:20251007T081603Z
LOCATION:Cosmo Caixa. Isaac Newton 26\, Barcelona.
URL:https://canviaelmon.upc.edu/ca/esdeveniments/proposem/dona-enginyera
END:VEVENT
BEGIN:VTIMEZONE
TZID:Europe/Madrid
X-LIC-LOCATION:Europe/Madrid
BEGIN:DAYLIGHT
DTSTART:20240331T030000
TZNAME:CEST
TZOFFSETFROM:+0100
TZOFFSETTO:+0200
END:DAYLIGHT
END:VTIMEZONE
END:VCALENDAR
