BEGIN:VCALENDAR
VERSION:2.0
PRODID:-//Plone.org//NONSGML plone.app.event//EN
X-WR-TIMEZONE:Europe/Madrid
BEGIN:VEVENT
SUMMARY:Pensar la Justicia Digital Global
DTSTART;TZID=Europe/Madrid:20230216T093000
DTEND;TZID=Europe/Madrid:20230216T190000
DTSTAMP:20260425T001817Z
UID:c708172bb6b84ab6934c473b23c65bca@canviaelmon.upc.edu
CONTACT:Oxfam Intermón i la Direcció de Justícia Global de l’Ajuntame
 nt de Barcelona.\, https://oxfamintermon.typeform.com/to/JZ4MUvJa
CREATED:20230214T121059Z
DESCRIPTION:Acosta't a diferents aspectes de l'impacte de la digitalitzaci
 ó. Inscriu-te per intercanviar inquietuds i opinions en els espais de dis
 cussió.
LAST-MODIFIED:20251007T081602Z
URL:https://canviaelmon.upc.edu/ca/esdeveniments/proposem/cooperaciointern
 acional
END:VEVENT
BEGIN:VTIMEZONE
TZID:Europe/Madrid
X-LIC-LOCATION:Europe/Madrid
BEGIN:STANDARD
DTSTART:20221030T020000
TZNAME:CET
TZOFFSETFROM:+0200
TZOFFSETTO:+0100
END:STANDARD
END:VTIMEZONE
END:VCALENDAR
