BEGIN:VCALENDAR
VERSION:2.0
PRODID:-//Plone.org//NONSGML plone.app.event//EN
X-WR-TIMEZONE:Europe/Madrid
BEGIN:VEVENT
SUMMARY:I Jornades Ciutats i Universitats
DTSTART;VALUE=DATE:20231212
DTEND;VALUE=DATE:20231214
DTSTAMP:20260424T225403Z
UID:18a101d81ecf4241a168207b5d86760f@canviaelmon.upc.edu
CATEGORIES:Sostenibilitat,Cooperació,Inclusió,Igualtat,Alumni
CONTACT:Global University Network for Innovation (GUNi) i l’Associació 
 Catalana d’Universitats Públiques (ACUP)\, https://acup.lnkacmb.com/sho
 w/2378016/YuJMmdNG9M2DQqqHXJKrfZvNA3IQ6P7Mdyqmx/2a6523f88f86b4ec545913a349
 57d51a/
CREATED:20231113T082930Z
DESCRIPTION:Reforça la col·laboració amb l'entorn explorant\, les relac
 ions i punts de contacte fent aflorar reptes comuns i propostes de futur.
LAST-MODIFIED:20251007T081601Z
LOCATION:Auditori del Campus Poblenou de la Universitat Pompeu Fabra (Carr
 er de Roc Boronat\, 138\, 08018 Barcelona).
URL:https://canviaelmon.upc.edu/ca/esdeveniments/proposem/ciutats-i-univer
 sitats
END:VEVENT
END:VCALENDAR
