BEGIN:VCALENDAR
VERSION:2.0
PRODID:-//Plone.org//NONSGML plone.app.event//EN
X-WR-TIMEZONE:Europe/Madrid
BEGIN:VEVENT
SUMMARY:Beques Nova\, més enllà de l'ajuda econòmica
DTSTART;VALUE=DATE:20251015
DTEND;VALUE=DATE:20251016
DTSTAMP:20260420T134016Z
UID:2cac593fb19946b49122fbe5eccfe03c@canviaelmon.upc.edu
CATEGORIES:Inclusió
CONTACT:Fundación Prevent\, https://www.fundacionprevent.com/ca/beques-no
 va/
CREATED:20250707T103706Z
DESCRIPTION:Dirigit a persones amb discapacitat\, per a la inserció labor
 al. Termini: 15/10/2025.
LAST-MODIFIED:20250717T095157Z
URL:https://canviaelmon.upc.edu/ca/esdeveniments/proposem/beques-nova
END:VEVENT
END:VCALENDAR
