BEGIN:VCALENDAR
VERSION:2.0
PRODID:-//Plone.org//NONSGML plone.app.event//EN
X-WR-TIMEZONE:Europe/Madrid
BEGIN:VEVENT
SUMMARY:Aprèn\, emprén i dona vida a la teva idea de negoci
DTSTART;VALUE=DATE:20250907
DTEND;VALUE=DATE:20250908
DTSTAMP:20260420T065109Z
UID:d511e65d547145a4b2aa4325245654f5@canviaelmon.upc.edu
CATEGORIES:Inclusió
CONTACT:Fundación Prevent\, https://www.fundacionprevent.com/ca/apren-i-e
 mpren/
CREATED:20240607T060930Z
DESCRIPTION:Formació i acompanyament gratuït per a la posada en marxa d
 ’una idea/iniciativa empresarial.
LAST-MODIFIED:20250717T095156Z
URL:https://canviaelmon.upc.edu/ca/esdeveniments/proposem/apren-i-empren
END:VEVENT
END:VCALENDAR
