BEGIN:VCALENDAR
VERSION:2.0
PRODID:-//Plone.org//NONSGML plone.app.event//EN
X-WR-TIMEZONE:Europe/Madrid
BEGIN:VEVENT
SUMMARY:Premios “Universidad\, conocimiento y Agenda 2030”
DTSTART;VALUE=DATE:20231211
DTEND;VALUE=DATE:20231212
DTSTAMP:20260425T032538Z
UID:c68b4966a00f4bf483146a81d40911ac@canviaelmon.upc.edu
CATEGORIES:Cooperació,Igualtat,Inclusió,Alumni,Sostenibilitat
CONTACT:Fundación Carolina | Agencia Española de Cooperación Internacio
 nal para el Desarrollo (AECID) | Conferencia de Rectores de las Universida
 des Españolas (Crue Universidades)\, https://www.aecid.es/en/w/v-premios-
 universidad-conocimiento-y-agenda-2030
CREATED:20231129T081910Z
DESCRIPTION:Sigues reconegut amb el teu TFE amb temàtiques ODS. Termini 1
 1/12/2023.
LAST-MODIFIED:20250717T095340Z
URL:https://canviaelmon.upc.edu/ca/esdeveniments/proposem/aecid
END:VEVENT
END:VCALENDAR
