BEGIN:VCALENDAR
VERSION:2.0
PRODID:-//Plone.org//NONSGML plone.app.event//EN
X-WR-TIMEZONE:Europe/Madrid
BEGIN:VEVENT
SUMMARY:Beques Fundació Adecco per estudiants amb discapacitat
DTSTART;VALUE=DATE:20250930
DTEND;VALUE=DATE:20251001
DTSTAMP:20260420T154241Z
UID:adaf6565540b4959b5461fa75b13b3a2@canviaelmon.upc.edu
CATEGORIES:Inclusió
CONTACT:Fundació ADECCO\, https://fundacionadecco.org/becas-y-ayudas/beca
 s-2025-personas-con-discapacidad/
CREATED:20250912T075422Z
DESCRIPTION:Termini fins el 30 de setembre de 2025\, a les 18h.
LAST-MODIFIED:20250912T075703Z
URL:https://canviaelmon.upc.edu/ca/esdeveniments/proposem/adecco
END:VEVENT
END:VCALENDAR
