BEGIN:VCALENDAR
VERSION:2.0
PRODID:-//Plone.org//NONSGML plone.app.event//EN
X-WR-TIMEZONE:Europe/Madrid
BEGIN:VEVENT
SUMMARY:#100tífiques
DTSTART;TZID=Europe/Madrid:20240201T091500
DTEND;TZID=Europe/Madrid:20240201T140000
DTSTAMP:20260420T084930Z
UID:144d7789e7dc4003b98bf3c68a721b95@canviaelmon.upc.edu
CATEGORIES:Igualtat
CONTACT:https://etseib.upc.edu/ca/esdeveniments/trobada-de-100tifiques
CREATED:20240129T134227Z
DESCRIPTION:Vine a la trobada anual per celebrar i debatre juntes com cont
 ribuir activament a donar visibilitat a les dones a la ciència i la tecno
 logia.
LAST-MODIFIED:20251007T081558Z
URL:https://canviaelmon.upc.edu/ca/esdeveniments/proposem/100tifiques
END:VEVENT
BEGIN:VTIMEZONE
TZID:Europe/Madrid
X-LIC-LOCATION:Europe/Madrid
BEGIN:STANDARD
DTSTART:20231029T020000
TZNAME:CET
TZOFFSETFROM:+0200
TZOFFSETTO:+0100
END:STANDARD
END:VTIMEZONE
END:VCALENDAR
