BEGIN:VCALENDAR
VERSION:2.0
PRODID:-//Plone.org//NONSGML plone.app.event//EN
X-WR-TIMEZONE:Europe/Madrid
BEGIN:VEVENT
SUMMARY:Pauses actives saludables
DTSTART;VALUE=DATE:20260209
DTEND;VALUE=DATE:20260729
DTSTAMP:20260424T174500Z
UID:b85fba9c2c9f4cc3869fdd1c612fd372@canviaelmon.upc.edu
CATEGORIES:Benestar,Sostenibilitat
CONTACT:Servei d'Esports UPC\, https://www.upc.edu/esports/ca/activitats/s
 alut/pauses-saludables
CREATED:20260421T093417Z
DESCRIPTION:Dissenyades per trencar amb el sedentarisme i convertir el mov
 iment en un hàbit diari.
LAST-MODIFIED:20260423T094634Z
LOCATION:Consultar diferents Campus UPC.
URL:https://canviaelmon.upc.edu/ca/esdeveniments/agenda/aprenentatges/paus
 es
END:VEVENT
BEGIN:VEVENT
SUMMARY:Magic Line SJD
DTSTART;VALUE=DATE:20260426
DTEND;VALUE=DATE:20260427
DTSTAMP:20260424T174500Z
UID:1c3531000b9348d7b1269fd9e8d76bb6@canviaelmon.upc.edu
CATEGORIES:Nexus Social,Benestar
CONTACT:Consell de l'Estudiantat de la UPC.\, https://docs.google.com/form
 s/d/e/1FAIpQLSfu1IL6KdLYkvRcoLj7zEhp7vJlzJ2yZ1aY9NyBKRrStBLrsg/viewform
CREATED:20260324T122434Z
DESCRIPTION:Participa en la caminada solidària de Sant Joan de Déu (reco
 neixement d'ECTS).
LAST-MODIFIED:20260327T124803Z
LOCATION:Sortida Collserola Sud
URL:https://canviaelmon.upc.edu/ca/esdeveniments/agenda/magic-line-sjd
END:VEVENT
BEGIN:VEVENT
SUMMARY:Ansietat davant dels exàmens i lliurament treballs
DTSTART;TZID=Europe/Madrid:20260429T121500
DTEND;TZID=Europe/Madrid:20260429T141500
DTSTAMP:20260424T174500Z
UID:73e9bf2e95044a4ab09842a3d6281afa@canviaelmon.upc.edu
CATEGORIES:Benestar
CONTACT:Formador: Jeroni de Moragas
CREATED:20260414T091639Z
DESCRIPTION:Taller al CFIS/FME el 29/04/2026.
LAST-MODIFIED:20260416T142012Z
LOCATION:Aula: Seminari-CFIS (Edifici de la Facultat de Matemàtiques i Es
 tadística - 1r pis).
URL:https://canviaelmon.upc.edu/ca/esdeveniments/agenda/benestar/ansietat
END:VEVENT
BEGIN:VEVENT
SUMMARY:Premis DonaTIC
DTSTART;TZID=Europe/Madrid:20260429T140000
DTSTAMP:20260424T174500Z
UID:a159f06ec5ff4322b64bd2e9f96fcbf3@canviaelmon.upc.edu
CATEGORIES:Igualtat
CONTACT:Departament d'Empresa i Treball de la Generalitat de Catalunya.\, 
 https://politiquesdigitals.gencat.cat/ca/ciutadania/donatic/premis-dona-ti
 c/
CREATED:20200626T101743Z
DESCRIPTION:Si ets dona i has desenvolupat una iniciativa destacable en l'
 àmbit de les TIC\, presenta la teva candidatura.
LAST-MODIFIED:20260318T122132Z
URL:https://canviaelmon.upc.edu/ca/esdeveniments/proposem/premis-dona-tic
END:VEVENT
BEGIN:VEVENT
SUMMARY:Campus Rural
DTSTART;VALUE=DATE:20260430
DTEND;VALUE=DATE:20260501
DTSTAMP:20260424T174500Z
UID:a57e6e14a100462b88ffc81a33d2d12e@canviaelmon.upc.edu
CATEGORIES:Sostenibilitat
CONTACT:Ministerio para la Transición Ecológica y el Reto Demográfico\,
  en col·laboració amb el Ministerio de Universidades i les Universitats 
 Públiques Espanyoles.\, https://www.upc.edu/cce/ca/estudiantat/ajuts-a-le
 s-practiques/campus-rural/campus-rural
CREATED:20260408T073856Z
DESCRIPTION:Accedeix a la convocatòria i realitza les teves pràctiques. 
 Termini d'inscripció 30 d'abril.
LAST-MODIFIED:20260408T075602Z
LOCATION:Diferents ubicacions
URL:https://canviaelmon.upc.edu/ca/esdeveniments/proposem/campus-rural
END:VEVENT
BEGIN:VEVENT
SUMMARY:Vine a la festa de la cooperació!
DTSTART;TZID=Europe/Madrid:20260514T120000
DTSTAMP:20260424T174500Z
UID:bd5f2351b1e449f38d3b963dec2c6542@canviaelmon.upc.edu
CATEGORIES:Cooperació
CONTACT:Centre de Cooperació per al Desenvolupament (CCD)
CREATED:20230417T213921Z
DESCRIPTION:Suma-t'hi el 14 de maig\, a les 12 h.
LAST-MODIFIED:20260421T111329Z
LOCATION:Plaça de les Constel·lacions del Campus Nord de la UPC (davant 
 la Biblioteca Rector Gabriel Ferraté).
URL:https://canviaelmon.upc.edu/ca/esdeveniments/agenda/campanyes/vine-a-l
 a-festa-de-la-cooperacio
END:VEVENT
BEGIN:VEVENT
SUMMARY:Mobilitapp. Mobilitat urbana
DTSTART;VALUE=DATE:20300101
DTEND;VALUE=DATE:20300102
DTSTAMP:20260424T174500Z
UID:10ce21f001ae4f619d1db126bbcb1ba4@canviaelmon.upc.edu
CATEGORIES:Nexus Social,Sostenibilitat
CONTACT:Grup de recerca  SISCOM (Smart services for information systems an
 d communication networks)\, https://mobilitapp.upc.edu/ca
CREATED:20251013T123135Z
DESCRIPTION:Comparteix les teves dades\, de forma anònima\, en la recerca
  de desplaçaments sostenibles.
LAST-MODIFIED:20251020T075535Z
URL:https://canviaelmon.upc.edu/ca/esdeveniments/agenda/campanyes/mobilita
 pp-mobilitat-urbana
END:VEVENT
BEGIN:VEVENT
SUMMARY:Dona el teu mòbil a la ciència
DTSTART;VALUE=DATE:20300101
DTEND;VALUE=DATE:20300102
DTSTAMP:20260424T174500Z
UID:ccc6c2f504dd408fbe5c9aa331a4cb29@canviaelmon.upc.edu
CATEGORIES:Nexus Social,Sostenibilitat,Inclusió,Cooperació
CONTACT:BIOGAP - Grup de Tractament Biològic de Contaminants Gasosos i Ol
 ors de l'Escola Politècnica Superior d'Enginyeria de Manresa (EPSEM).\, h
 ttps://sostenible.upc.edu/ca/recircula/donaelteumobil
CREATED:20251013T124152Z
DESCRIPTION:Els mòbils recollits s'utilitzaran per millorar-ne el recicla
 tge.
LAST-MODIFIED:20260311T090240Z
URL:https://canviaelmon.upc.edu/ca/esdeveniments/agenda/campanyes/biometal
 lum
END:VEVENT
BEGIN:VEVENT
SUMMARY:Biodiversitat al Campus de Terrassa
DTSTART;VALUE=DATE:20301231
DTEND;VALUE=DATE:20310101
DTSTAMP:20260424T174500Z
UID:ae72b07e23514637b248e995f35f7514@canviaelmon.upc.edu
CONTACT:Xarxa iNaturalist\, https://www.inaturalist.org/projects/biodivers
 itat-al-campus-de-terrassa-de-la-upc
CREATED:20251013T115345Z
DESCRIPTION:Ajuda a identificar espècies dels jardins a través de la pla
 taforma iNaturalist.
LAST-MODIFIED:20251013T180741Z
LOCATION:En línia
URL:https://canviaelmon.upc.edu/ca/esdeveniments/agenda/campanyes/bio-ct
END:VEVENT
BEGIN:VTIMEZONE
TZID:Europe/Madrid
X-LIC-LOCATION:Europe/Madrid
BEGIN:DAYLIGHT
DTSTART:20260329T030000
TZNAME:CEST
TZOFFSETFROM:+0100
TZOFFSETTO:+0200
END:DAYLIGHT
END:VTIMEZONE
END:VCALENDAR
